BEGIN:VCALENDAR
VERSION:2.0
PRODID:-//The PAC - ECPv6.15.17.1//NONSGML v1.0//EN
CALSCALE:GREGORIAN
METHOD:PUBLISH
X-ORIGINAL-URL:https://thepac.net
X-WR-CALDESC:Events for The PAC
REFRESH-INTERVAL;VALUE=DURATION:PT1H
X-Robots-Tag:noindex
X-PUBLISHED-TTL:PT1H
BEGIN:VTIMEZONE
TZID:America/Kentucky/Louisville
BEGIN:DAYLIGHT
TZOFFSETFROM:-0500
TZOFFSETTO:-0400
TZNAME:EDT
DTSTART:20250309T070000
END:DAYLIGHT
BEGIN:STANDARD
TZOFFSETFROM:-0400
TZOFFSETTO:-0500
TZNAME:EST
DTSTART:20251102T060000
END:STANDARD
BEGIN:DAYLIGHT
TZOFFSETFROM:-0500
TZOFFSETTO:-0400
TZNAME:EDT
DTSTART:20260308T070000
END:DAYLIGHT
BEGIN:STANDARD
TZOFFSETFROM:-0400
TZOFFSETTO:-0500
TZNAME:EST
DTSTART:20261101T060000
END:STANDARD
BEGIN:DAYLIGHT
TZOFFSETFROM:-0500
TZOFFSETTO:-0400
TZNAME:EDT
DTSTART:20270314T070000
END:DAYLIGHT
BEGIN:STANDARD
TZOFFSETFROM:-0400
TZOFFSETTO:-0500
TZNAME:EST
DTSTART:20271107T060000
END:STANDARD
END:VTIMEZONE
BEGIN:VEVENT
DTSTART;VALUE=DATE:20260124
DTEND;VALUE=DATE:20260126
DTSTAMP:20260422T163507
CREATED:20250811T195715Z
LAST-MODIFIED:20260123T224206Z
UID:10000622-1769212800-1769385599@thepac.net
SUMMARY:PAC Season Event: PAC ProAm Classical - THE 39 STEPS
DESCRIPTION:The Award-Winning Whodunit Spy Murder Comedy Romance!\nMix a Hitchcock masterpiece with a dash of Monty Python\, and you have a fast-paced whodunit packed with nonstop laughs\, missing fingers\, and some good old-fashioned romance! \nRun Time: Approx. 2 hours with intermission\nRated PG 13: Best for ages 13 and above.\nOn Sale: Now\nTickets: $11\, $16\, & $22.25\nPublic Performance: 1/23 @ 7PM\, 1/31 @ 3PM\, & 2/01 @ 3PM \nGet Your Tickets Here \nDue to weather-related cancellations\, Saturday’s (1/24) and Sunday’s (1/25) performances have been rescheduled to Saturday\, January 31 at 3:00 PM and Sunday\, February 1 at 3:00 PM. All previously purchased tickets have been automatically transferred to the corresponding performances next weekend. \nProducing Partners: Alan L. Thomas Piano Tuning & Repair\, Jerry Cormier in Loving Memory of Shirley Cormier\,\nOlivia Kizinkiewicz\, The Liske Family\, Chris and Peggy Ryan for Ray and Ethel
URL:https://thepac.net/event/pac-season-event-pac-proam-classical-the-39-steps-2/
CATEGORIES:2025-2026 Season Event,PAC ProAm Classical
ATTACH;FMTTYPE=image/png:https://thepac.net/wp-content/uploads/2025/07/39-Steps-RECTANGLE-Hi-Res.png
END:VEVENT
BEGIN:VEVENT
DTSTART;VALUE=DATE:20260127
DTEND;VALUE=DATE:20260128
DTSTAMP:20260422T163507
CREATED:20260105T191530Z
LAST-MODIFIED:20260126T185409Z
UID:10000663-1769472000-1769558399@thepac.net
SUMMARY:CANCELLED - HCS Event: Bluegrass Middle School Band - Wind Ensemble Preview Concert
DESCRIPTION:Bluegrass Middle School Wind Ensemble Preview Concert\nKMEA Conference performance preview for parents and family. \nRun Time: Approx. 30 min\nRated G: Best For all Ages\nOn Sale: Soon\nTickets: Free; Seats Must Be Reserved \nPublic Performances: 1/27 @ 7PM \nDue to weather this performance has been cancelled. This event was a free ticketed event therefore no refund is available. \nAll tickets reserved through the PAC at www.thepac.net or 270-769-8837 X 4 or 5. \nDonations made on this site benefit the Performing Arts Center\, and we graciously accept your support. To donate to the organizer of this event\, please get in touch with them directly.
URL:https://thepac.net/event/hcs-event-bluegrass-middle-school-band-wind-ensemble-preview-concert/
ATTACH;FMTTYPE=image/jpeg:https://thepac.net/wp-content/uploads/2022/08/hcs-new-logo-small-e1661953285663.jpg
END:VEVENT
BEGIN:VEVENT
DTSTART;VALUE=DATE:20260131
DTEND;VALUE=DATE:20260201
DTSTAMP:20260422T163507
CREATED:20260123T223825Z
LAST-MODIFIED:20260123T223825Z
UID:10000695-1769817600-1769903999@thepac.net
SUMMARY:PAC Season Event: PAC ProAm Classical - THE 39 STEPS
DESCRIPTION:The Award-Winning Whodunit Spy Murder Comedy Romance!\nMix a Hitchcock masterpiece with a dash of Monty Python\, and you have a fast-paced whodunit packed with nonstop laughs\, missing fingers\, and some good old-fashioned romance! \nRun Time: Approx. 2 hours with intermission\nRated PG 13: Best for ages 13 and above.\nOn Sale: Now\nTickets: $11\, $16\, & $22.25\nPublic Performance: 1/23 @ 7PM\, 1/31 @ 3PM\, & 2/01 @ 3PM \nGet Your Tickets Here \nDue to weather-related cancellations\, Saturday’s (1/24) and Sunday’s (1/25) performances have been rescheduled to Saturday\, January 31 at 3:00 PM and Sunday\, February 1 at 3:00 PM. All previously purchased tickets have been automatically transferred to the corresponding performances next weekend. \nProducing Partners: Alan L. Thomas Piano Tuning & Repair\, Jerry Cormier in Loving Memory of Shirley Cormier\,\nOlivia Kizinkiewicz\, The Liske Family\, Chris and Peggy Ryan for Ray and Ethel
URL:https://thepac.net/event/pac-season-event-pac-proam-classical-the-39-steps/2026-01-31/
CATEGORIES:2025-2026 Season Event,PAC ProAm Classical
ATTACH;FMTTYPE=image/png:https://thepac.net/wp-content/uploads/2025/07/39-Steps-RECTANGLE-Hi-Res.png
END:VEVENT
END:VCALENDAR