BEGIN:VCALENDAR
VERSION:2.0
PRODID:-//The PAC - ECPv6.15.17.1//NONSGML v1.0//EN
CALSCALE:GREGORIAN
METHOD:PUBLISH
X-WR-CALNAME:The PAC
X-ORIGINAL-URL:https://thepac.net
X-WR-CALDESC:Events for The PAC
REFRESH-INTERVAL;VALUE=DURATION:PT1H
X-Robots-Tag:noindex
X-PUBLISHED-TTL:PT1H
BEGIN:VTIMEZONE
TZID:America/Kentucky/Louisville
BEGIN:DAYLIGHT
TZOFFSETFROM:-0500
TZOFFSETTO:-0400
TZNAME:EDT
DTSTART:20250309T070000
END:DAYLIGHT
BEGIN:STANDARD
TZOFFSETFROM:-0400
TZOFFSETTO:-0500
TZNAME:EST
DTSTART:20251102T060000
END:STANDARD
BEGIN:DAYLIGHT
TZOFFSETFROM:-0500
TZOFFSETTO:-0400
TZNAME:EDT
DTSTART:20260308T070000
END:DAYLIGHT
BEGIN:STANDARD
TZOFFSETFROM:-0400
TZOFFSETTO:-0500
TZNAME:EST
DTSTART:20261101T060000
END:STANDARD
BEGIN:DAYLIGHT
TZOFFSETFROM:-0500
TZOFFSETTO:-0400
TZNAME:EDT
DTSTART:20270314T070000
END:DAYLIGHT
BEGIN:STANDARD
TZOFFSETFROM:-0400
TZOFFSETTO:-0500
TZNAME:EST
DTSTART:20271107T060000
END:STANDARD
END:VTIMEZONE
BEGIN:VEVENT
DTSTART;VALUE=DATE:20260505
DTEND;VALUE=DATE:20260506
DTSTAMP:20260422T210816
CREATED:20260417T205626Z
LAST-MODIFIED:20260417T205626Z
UID:10000586-1777939200-1778025599@thepac.net
SUMMARY:HCS Event: JHHS Concert Choir - Spring Concert
DESCRIPTION:JHHS Concert Choir Spring Concert\nThe JHHS Choir will sing songs from 11 decades\, from the 1920’s to the 2020’s. \nRun Time: Approx 90 mins\nRated: Best for all ages\nOn Sale: 04/20 @ 9AM\nTickets: Tickets are free; but all seats must be reserved\nPublic Performance: 05/05 @ 7PM \nGet Your Tickets Here \nAll tickets reserved through the PAC at www.thepac.net or 270-769-8837 X 4 or 5. \nDonations made on this site benefit the Performing Arts Center\, and we graciously accept your support. To donate to the organizer of this event\, please get in touch with them directly.
URL:https://thepac.net/event/hcs-event-jhhs-concert-choir-spring-concert/
ATTACH;FMTTYPE=image/jpeg:https://thepac.net/wp-content/uploads/2022/08/hcs-new-logo-small-e1661953285663.jpg
END:VEVENT
BEGIN:VEVENT
DTSTART;VALUE=DATE:20260506
DTEND;VALUE=DATE:20260507
DTSTAMP:20260422T210816
CREATED:20260420T210850Z
LAST-MODIFIED:20260420T210850Z
UID:10000587-1778025600-1778111999@thepac.net
SUMMARY:HCS Event: Central Hardin High School Band - Prism Concert
DESCRIPTION:Central Hardin High School Band – Prism Concert\nSmall Ensemble Concert \nRun Time: Approx 1hr\nRated: Best for all ages\nOn Sale: 4/21 @ 9AM\nTickets: Tickets are free\, but all seats must be reserved\nPublic Performance:  05/06 @ 7PM \nGet Your Tickets Here \nAll tickets reserved through the PAC at www.thepac.net or 270-769-8837 X 4 or 5. \nDonations made on this site benefit the Performing Arts Center\, and we graciously accept your support. To donate to the organizer of this event\, please get in touch with them directly.
URL:https://thepac.net/event/hcs-event-central-hardin-high-school-band-prism-concert/
ATTACH;FMTTYPE=image/jpeg:https://thepac.net/wp-content/uploads/2022/08/hcs-new-logo-small-e1661953285663.jpg
END:VEVENT
BEGIN:VEVENT
DTSTART;VALUE=DATE:20260509
DTEND;VALUE=DATE:20260510
DTSTAMP:20260422T210816
CREATED:20260309T215048Z
LAST-MODIFIED:20260309T215048Z
UID:10000541-1778284800-1778371199@thepac.net
SUMMARY:Third Party Event: In Bloom: The Lawson School of Music Spring Recital
DESCRIPTION:The Lawson School of Music – In Bloom: The Lawson School of Music Spring Recital\nJoin us for ‘In Bloom’\, our studio-wide spring recital celebrating growth\, creativity\, and the joy of making music together. Just as spring brings new life and color to the world around us\, our students take the stage to showcase how their hard work and artistry have blossomed throughout the year. This special performance will feature students in private lessons in voice\, piano\, guitar\, ukulele\, drums\, and bass — each sharing music that reflects their unique journey and dedication. We are also thrilled to present a featured performance by our group voice class\, Singing Starz\, whose energy and teamwork beautifully embody the spirit of the season. \nRun Time: Approx 90 mins\, Recital A; Approx 100 mins\, Recital B\nRated: All Ages\nOn Sale: 3/10 @ 9AM\nTickets: $15 fees included\nPublic Performances: 5/09 @ 11:30 AM & 1:15 PM \nGet Your Tickets Here \nAll tickets reserved through the PAC at www.thepac.net or 270-769-8837 X 4 or 5. \nDonations made on this site benefit the Performing Arts Center\, and we graciously accept your support. To donate to the organizer of this event\, please get in touch with them directly.
URL:https://thepac.net/event/third-party-event-in-bloom-the-lawson-school-of-music-spring-recital/
ATTACH;FMTTYPE=image/png:https://thepac.net/wp-content/uploads/2023/05/THIRD-PART-EVENT-LOGO.png
END:VEVENT
BEGIN:VEVENT
DTSTART;TZID=America/Kentucky/Louisville:20260511T173000
DTEND;TZID=America/Kentucky/Louisville:20260511T180000
DTSTAMP:20260422T210816
CREATED:20260327T202842Z
LAST-MODIFIED:20260327T202842Z
UID:10000588-1778520600-1778522400@thepac.net
SUMMARY:HCS Event: Bluegrass Middle School Band - Spring Concerts
DESCRIPTION:Bluegrass Middle School Band Concerts\nBluegrass Middle School 6th Grade Spring Concert & Bluegrass Middle School 7th & 8th Concert Band and Wind Ensemble featuring guest artist Mark Webster and the world premiere of an original composition by one of our own students.  \nRun Time: approx 20 mins (6th grade) and 45 mins (7th & 8th grade)\nRated G: Best For all Ages.\nOn Sale: 4/11\nTickets: $7 fees included \nPublic Performances:\n-6th Grade: 5/11 @ 5:30PM\n-7th/8th Grade: 5/11 @ 7PM \nGet Your Tickets Here \nAll tickets reserved through the PAC at www.thepac.net or 270-769-8837 X 4 or 5. \nDonations made on this site benefit the Performing Arts Center\, and we graciously accept your support. To donate to the organizer of this event\, please get in touch with them directly.
URL:https://thepac.net/event/hcs-event-bluegrass-middle-school-band-spring-concerts/2026-05-11/1/
ATTACH;FMTTYPE=image/jpeg:https://thepac.net/wp-content/uploads/2022/08/hcs-new-logo-small-e1661953285663.jpg
END:VEVENT
BEGIN:VEVENT
DTSTART;TZID=America/Kentucky/Louisville:20260511T190000
DTEND;TZID=America/Kentucky/Louisville:20260511T200000
DTSTAMP:20260422T210816
CREATED:20260327T202842Z
LAST-MODIFIED:20260327T202842Z
UID:10000702-1778526000-1778529600@thepac.net
SUMMARY:HCS Event: Bluegrass Middle School Band - Spring Concerts
DESCRIPTION:Bluegrass Middle School Band Concerts\nBluegrass Middle School 6th Grade Spring Concert & Bluegrass Middle School 7th & 8th Concert Band and Wind Ensemble featuring guest artist Mark Webster and the world premiere of an original composition by one of our own students.  \nRun Time: approx 20 mins (6th grade) and 45 mins (7th & 8th grade)\nRated G: Best For all Ages.\nOn Sale: 4/11\nTickets: $7 fees included \nPublic Performances:\n-6th Grade: 5/11 @ 5:30PM\n-7th/8th Grade: 5/11 @ 7PM \nGet Your Tickets Here \nAll tickets reserved through the PAC at www.thepac.net or 270-769-8837 X 4 or 5. \nDonations made on this site benefit the Performing Arts Center\, and we graciously accept your support. To donate to the organizer of this event\, please get in touch with them directly.
URL:https://thepac.net/event/hcs-event-bluegrass-middle-school-band-spring-concerts/2026-05-11/2/
ATTACH;FMTTYPE=image/jpeg:https://thepac.net/wp-content/uploads/2022/08/hcs-new-logo-small-e1661953285663.jpg
END:VEVENT
BEGIN:VEVENT
DTSTART;VALUE=DATE:20260516
DTEND;VALUE=DATE:20260517
DTSTAMP:20260422T210816
CREATED:20260327T213708Z
LAST-MODIFIED:20260327T213708Z
UID:10000544-1778889600-1778975999@thepac.net
SUMMARY:Third Party Event: The Dance Centre of Elizabethtown - Spring Recital
DESCRIPTION:The Dance Center of Elizabethtown – Spring Recital\nDance Center’s Spring Recitals \n\n\n\n\n\nRun Time: Approx 1 hour for the first recital and 2.5 hours for the second recital\nRated: All ages \nOn Sale: 4/1 @ 9AM\nTickets: $7 fees included\nPublic Performances:\n-Recital 1: 5/16 @ 1PM\n-Recital 2: 5/16 @ 4PM \nGet Your Tickets Here \nAll tickets reserved through the PAC at www.thepac.net or 270-769-8837 X 4 or 5. \nDonations made on this site benefit the Performing Arts Center\, and we graciously accept your support. To donate to the organizer of this event\, please get in touch with them directly.
URL:https://thepac.net/event/third-party-event-the-dance-centre-of-elizabethtown-spring-recital/
ATTACH;FMTTYPE=image/png:https://thepac.net/wp-content/uploads/2023/05/THIRD-PART-EVENT-LOGO.png
END:VEVENT
BEGIN:VEVENT
DTSTART;VALUE=DATE:20260518
DTEND;VALUE=DATE:20260519
DTSTAMP:20260422T210816
CREATED:20260420T202331Z
LAST-MODIFIED:20260420T202417Z
UID:10000545-1779062400-1779148799@thepac.net
SUMMARY:Third Party Event: Studio One-Eleven - Dancing Through the Decades
DESCRIPTION:Third Party Event: Studio One-Eleven – Dancing Through the Decades\nDance recital. \n\n\n\n\n\nRun Time: Approx 2 hrs\nRated: All ages \nOn Sale: 4/21 @ 9AM\nTickets: $13 fees included\nPublic Performances: 5/18 @ 6:30PM \nGet Your Tickets Here \nAll seats reserved through the PAC at www.thepac.net. \n\n\n\n\n\n\n\n\nDonations made on this site benefit the Performing Arts Center and we graciously accept your support. To make a donation to the organizer of this event\, please contact them directly.
URL:https://thepac.net/event/third-party-event-studio-one-eleven-dancing-through-the-decades/
ATTACH;FMTTYPE=image/png:https://thepac.net/wp-content/uploads/2023/05/THIRD-PART-EVENT-LOGO.png
END:VEVENT
BEGIN:VEVENT
DTSTART;VALUE=DATE:20260522
DTEND;VALUE=DATE:20260523
DTSTAMP:20260422T210816
CREATED:20260418T152618Z
LAST-MODIFIED:20260418T152618Z
UID:10000546-1779408000-1779494399@thepac.net
SUMMARY:Third Party Event: Allegro Dance Theatre - Recital 2026
DESCRIPTION:Third Party Event: Allegro Dance Theatre Recital 2026\nAllegro Dance Theatre Recital 2026 – Stars and Stripes\, Dancing Through Life\, Variations from Sleeping Beauty\, Glass Hearts – May 22 at 7:00\, and May 23 at 7:00 and Disney’s Lion King\, Jr. Special Recital Edition – May 23 at 1:00pm \n\n\n\n\n\nRun Time: approx 2.5 hours for Friday at 7PM and Saturday at 7PM and 1 hour and 30 minutes for Saturday at 1PM.\nRated: All ages \nOn Sale: Now\nTickets: $11 fees included\nPublic Performances: 5/22 @7PM\,  5/23 @1PM\, 5/23 @7PM \nGet Your Tickets Here \nAll tickets reserved through the PAC at www.thepac.net or 270-769-8837 X 4 or 5. \nDonations made on this site benefit the Performing Arts Center\, and we graciously accept your support. To donate to the organizer of this event\, please get in touch with them directly.
URL:https://thepac.net/event/third-party-event-allegro-dance-theatre-recital-2026/2026-05-22/
ATTACH;FMTTYPE=image/png:https://thepac.net/wp-content/uploads/2023/05/THIRD-PART-EVENT-LOGO.png
END:VEVENT
BEGIN:VEVENT
DTSTART;VALUE=DATE:20260523
DTEND;VALUE=DATE:20260524
DTSTAMP:20260422T210817
CREATED:20260418T152618Z
LAST-MODIFIED:20260418T152618Z
UID:10000703-1779541200-1779548400@thepac.net
SUMMARY:Third Party Event: Allegro Dance Theatre - Recital 2026
DESCRIPTION:Third Party Event: Allegro Dance Theatre Recital 2026\nAllegro Dance Theatre Recital 2026 – Stars and Stripes\, Dancing Through Life\, Variations from Sleeping Beauty\, Glass Hearts – May 22 at 7:00\, and May 23 at 7:00 and Disney’s Lion King\, Jr. Special Recital Edition – May 23 at 1:00pm \n\n\n\n\n\nRun Time: approx 2.5 hours for Friday at 7PM and Saturday at 7PM and 1 hour and 30 minutes for Saturday at 1PM.\nRated: All ages \nOn Sale: Now\nTickets: $11 fees included\nPublic Performances: 5/22 @7PM\,  5/23 @1PM\, 5/23 @7PM \nGet Your Tickets Here \nAll tickets reserved through the PAC at www.thepac.net or 270-769-8837 X 4 or 5. \nDonations made on this site benefit the Performing Arts Center\, and we graciously accept your support. To donate to the organizer of this event\, please get in touch with them directly.
URL:https://thepac.net/event/third-party-event-allegro-dance-theatre-recital-2026/2026-05-23/1/
ATTACH;FMTTYPE=image/png:https://thepac.net/wp-content/uploads/2023/05/THIRD-PART-EVENT-LOGO.png
END:VEVENT
BEGIN:VEVENT
DTSTART;VALUE=DATE:20260523
DTEND;VALUE=DATE:20260524
DTSTAMP:20260422T210817
CREATED:20260418T152618Z
LAST-MODIFIED:20260418T152618Z
UID:10000704-1779562800-1779573600@thepac.net
SUMMARY:Third Party Event: Allegro Dance Theatre - Recital 2026
DESCRIPTION:Third Party Event: Allegro Dance Theatre Recital 2026\nAllegro Dance Theatre Recital 2026 – Stars and Stripes\, Dancing Through Life\, Variations from Sleeping Beauty\, Glass Hearts – May 22 at 7:00\, and May 23 at 7:00 and Disney’s Lion King\, Jr. Special Recital Edition – May 23 at 1:00pm \n\n\n\n\n\nRun Time: approx 2.5 hours for Friday at 7PM and Saturday at 7PM and 1 hour and 30 minutes for Saturday at 1PM.\nRated: All ages \nOn Sale: Now\nTickets: $11 fees included\nPublic Performances: 5/22 @7PM\,  5/23 @1PM\, 5/23 @7PM \nGet Your Tickets Here \nAll tickets reserved through the PAC at www.thepac.net or 270-769-8837 X 4 or 5. \nDonations made on this site benefit the Performing Arts Center\, and we graciously accept your support. To donate to the organizer of this event\, please get in touch with them directly.
URL:https://thepac.net/event/third-party-event-allegro-dance-theatre-recital-2026/2026-05-23/2/
ATTACH;FMTTYPE=image/png:https://thepac.net/wp-content/uploads/2023/05/THIRD-PART-EVENT-LOGO.png
END:VEVENT
BEGIN:VEVENT
DTSTART;VALUE=DATE:20260527
DTEND;VALUE=DATE:20260528
DTSTAMP:20260422T210817
CREATED:20260422T214246Z
LAST-MODIFIED:20260422T215209Z
UID:10000548-1779840000-1779926399@thepac.net
SUMMARY:Third Party Event: Center Stage - From The Top... 5\,6\,7\,8
DESCRIPTION:Third Party Event: Center Stage – From The Top… 5\,6\,7\,8\nJoin us for our 2026 Spring Recital. Our performers will dance to some of our favorite music in multiple genres of dance. Dancers will perform in ballet\, tap\, jazz\, hip hop\, lyrical\, modern\, contemporary\, and musical theater. We are so proud of our students and everything they have accomplished this year! \nRun Time: approx 2 – 2.5 hrs\nRated G: Best for all ages\nOn Sale: May 1st\nTickets: $16 orchestra\, $13 balcony\nPublic Performances: 5/27 @7PM\, 5/29 @7PM\, & 5/31 @ PM \nGet Your Tickets Here \nAll tickets reserved through the PAC at www.thepac.net or 270-769-8837 X 4 or 5. \nDonations made on this site benefit the Performing Arts Center\, and we graciously accept your support. To donate to the organizer of this event\, please get in touch with them directly.
URL:https://thepac.net/event/third-party-event-center-stage-from-the-top-5678/2026-05-27/
ATTACH;FMTTYPE=image/png:https://thepac.net/wp-content/uploads/2025/04/Center-Stage-Logo.png
END:VEVENT
BEGIN:VEVENT
DTSTART;VALUE=DATE:20260529
DTEND;VALUE=DATE:20260530
DTSTAMP:20260422T210817
CREATED:20260422T214246Z
LAST-MODIFIED:20260422T215209Z
UID:10000705-1780041600-1780074000@thepac.net
SUMMARY:Third Party Event: Center Stage - From The Top... 5\,6\,7\,8
DESCRIPTION:Third Party Event: Center Stage – From The Top… 5\,6\,7\,8\nJoin us for our 2026 Spring Recital. Our performers will dance to some of our favorite music in multiple genres of dance. Dancers will perform in ballet\, tap\, jazz\, hip hop\, lyrical\, modern\, contemporary\, and musical theater. We are so proud of our students and everything they have accomplished this year! \nRun Time: approx 2 – 2.5 hrs\nRated G: Best for all ages\nOn Sale: May 1st\nTickets: $16 orchestra\, $13 balcony\nPublic Performances: 5/27 @7PM\, 5/29 @7PM\, & 5/31 @ PM \nGet Your Tickets Here \nAll tickets reserved through the PAC at www.thepac.net or 270-769-8837 X 4 or 5. \nDonations made on this site benefit the Performing Arts Center\, and we graciously accept your support. To donate to the organizer of this event\, please get in touch with them directly.
URL:https://thepac.net/event/third-party-event-center-stage-from-the-top-5678/2026-05-29/
ATTACH;FMTTYPE=image/png:https://thepac.net/wp-content/uploads/2025/04/Center-Stage-Logo.png
END:VEVENT
BEGIN:VEVENT
DTSTART;VALUE=DATE:20260531
DTEND;VALUE=DATE:20260601
DTSTAMP:20260422T210817
CREATED:20260422T214246Z
LAST-MODIFIED:20260422T215209Z
UID:10000706-1780214400-1780246800@thepac.net
SUMMARY:Third Party Event: Center Stage - From The Top... 5\,6\,7\,8
DESCRIPTION:Third Party Event: Center Stage – From The Top… 5\,6\,7\,8\nJoin us for our 2026 Spring Recital. Our performers will dance to some of our favorite music in multiple genres of dance. Dancers will perform in ballet\, tap\, jazz\, hip hop\, lyrical\, modern\, contemporary\, and musical theater. We are so proud of our students and everything they have accomplished this year! \nRun Time: approx 2 – 2.5 hrs\nRated G: Best for all ages\nOn Sale: May 1st\nTickets: $16 orchestra\, $13 balcony\nPublic Performances: 5/27 @7PM\, 5/29 @7PM\, & 5/31 @ PM \nGet Your Tickets Here \nAll tickets reserved through the PAC at www.thepac.net or 270-769-8837 X 4 or 5. \nDonations made on this site benefit the Performing Arts Center\, and we graciously accept your support. To donate to the organizer of this event\, please get in touch with them directly.
URL:https://thepac.net/event/third-party-event-center-stage-from-the-top-5678/2026-05-31/
ATTACH;FMTTYPE=image/png:https://thepac.net/wp-content/uploads/2025/04/Center-Stage-Logo.png
END:VEVENT
END:VCALENDAR