BEGIN:VCALENDAR
VERSION:2.0
PRODID:-//The PAC - ECPv6.15.17.1//NONSGML v1.0//EN
CALSCALE:GREGORIAN
METHOD:PUBLISH
X-WR-CALNAME:The PAC
X-ORIGINAL-URL:https://thepac.net
X-WR-CALDESC:Events for The PAC
REFRESH-INTERVAL;VALUE=DURATION:PT1H
X-Robots-Tag:noindex
X-PUBLISHED-TTL:PT1H
BEGIN:VTIMEZONE
TZID:America/Kentucky/Louisville
BEGIN:DAYLIGHT
TZOFFSETFROM:-0500
TZOFFSETTO:-0400
TZNAME:EDT
DTSTART:20250309T070000
END:DAYLIGHT
BEGIN:STANDARD
TZOFFSETFROM:-0400
TZOFFSETTO:-0500
TZNAME:EST
DTSTART:20251102T060000
END:STANDARD
BEGIN:DAYLIGHT
TZOFFSETFROM:-0500
TZOFFSETTO:-0400
TZNAME:EDT
DTSTART:20260308T070000
END:DAYLIGHT
BEGIN:STANDARD
TZOFFSETFROM:-0400
TZOFFSETTO:-0500
TZNAME:EST
DTSTART:20261101T060000
END:STANDARD
BEGIN:DAYLIGHT
TZOFFSETFROM:-0500
TZOFFSETTO:-0400
TZNAME:EDT
DTSTART:20270314T070000
END:DAYLIGHT
BEGIN:STANDARD
TZOFFSETFROM:-0400
TZOFFSETTO:-0500
TZNAME:EST
DTSTART:20271107T060000
END:STANDARD
END:VTIMEZONE
BEGIN:VEVENT
DTSTART;VALUE=DATE:20260418
DTEND;VALUE=DATE:20260419
DTSTAMP:20260422T115926
CREATED:20260204T222521Z
LAST-MODIFIED:20260204T222521Z
UID:10000539-1776470400-1776556799@thepac.net
SUMMARY:Third Party Event: Onyx Fire Inc. Presents Grand Illusion.
DESCRIPTION:Onyx Fire Inc. Presents Grand Illusion\nPrepare to be amazed at Grand Illusion\, an unforgettable night of magic\, laughter\, and giving—presented by Onyx Fire Inc. and benefiting the Ronald McDonald House Charities of Kentuckiana. \nThis spectacular magic show features Aaron Harp Magic\, joined by former Las Vegas headliner and legendary magician Lance Burton as a special guest. Together\, they will captivate audiences with mind-bending illusions\, hilarious comedy\, and awe-inspiring moments that will leave you wondering\, “How did they do that?” \nMore than just a show\, Grand Illusion is a night with a purpose. Every moment of wonder helps support the Ronald McDonald House of Kentuckiana\, providing comfort\, care\, and a home away from home for families when they need it most. \nJoin us for an evening where world-class magic meets meaningful impact—and be part of an experience that truly makes a difference. \nRun Time: Approx 2 hours with a 15 min intermission\nRated:Family friendly fun! Fun for all ages.\nOn Sale: Now\nTickets:  $15 adults\, $10 children\, all fees included\nPublic Performances: 4/18 @ 7PM \nGet Your Tickets Here \nAll tickets reserved through the PAC at www.thepac.net or 270-769-8837 X 4 or 5. \nDonations made on this site benefit the Performing Arts Center\, and we graciously accept your support. To donate to the organizer of this event\, please get in touch with them directly.
URL:https://thepac.net/event/third-party-event-onyx-fire-inc-presents-grand-illusion/
ATTACH;FMTTYPE=image/jpeg:https://thepac.net/wp-content/uploads/2026/01/750px-1159px_Harp-Poster-2026-FOR-WEB-ONLY.jpg
END:VEVENT
END:VCALENDAR