BEGIN:VCALENDAR
VERSION:2.0
PRODID:-//The PAC - ECPv6.15.17.1//NONSGML v1.0//EN
CALSCALE:GREGORIAN
METHOD:PUBLISH
X-WR-CALNAME:The PAC
X-ORIGINAL-URL:https://thepac.net
X-WR-CALDESC:Events for The PAC
REFRESH-INTERVAL;VALUE=DURATION:PT1H
X-Robots-Tag:noindex
X-PUBLISHED-TTL:PT1H
BEGIN:VTIMEZONE
TZID:America/Kentucky/Louisville
BEGIN:DAYLIGHT
TZOFFSETFROM:-0500
TZOFFSETTO:-0400
TZNAME:EDT
DTSTART:20250309T070000
END:DAYLIGHT
BEGIN:STANDARD
TZOFFSETFROM:-0400
TZOFFSETTO:-0500
TZNAME:EST
DTSTART:20251102T060000
END:STANDARD
BEGIN:DAYLIGHT
TZOFFSETFROM:-0500
TZOFFSETTO:-0400
TZNAME:EDT
DTSTART:20260308T070000
END:DAYLIGHT
BEGIN:STANDARD
TZOFFSETFROM:-0400
TZOFFSETTO:-0500
TZNAME:EST
DTSTART:20261101T060000
END:STANDARD
BEGIN:DAYLIGHT
TZOFFSETFROM:-0500
TZOFFSETTO:-0400
TZNAME:EDT
DTSTART:20270314T070000
END:DAYLIGHT
BEGIN:STANDARD
TZOFFSETFROM:-0400
TZOFFSETTO:-0500
TZNAME:EST
DTSTART:20271107T060000
END:STANDARD
END:VTIMEZONE
BEGIN:VEVENT
DTSTART;VALUE=DATE:20260312
DTEND;VALUE=DATE:20260313
DTSTAMP:20260420T052618
CREATED:20260226T023731Z
LAST-MODIFIED:20260226T023731Z
UID:10000582-1773273600-1773359999@thepac.net
SUMMARY:HCS Event: WHMS Band and CHHS Band Festival Preview Concert
DESCRIPTION:WHMS Band and CHHS Band Festival Preview Concert\nThe WHMS Symphonic Band\, CHHS Symphonic Band\, and CHHS Wind Ensemble will perform their selections for the KMEA 4th District Large Ensemble Assessment. \nRun Time: Approx 90 mins\nRated: Best for all ages\nOn Sale: 2/27 @ 9AM\nTickets: Tickets are free\, but all seats must be reserved\nPublic Performance:  3/12 @ 7PM \nGet Your Tickets Here \nAll tickets reserved through the PAC at www.thepac.net or 270-769-8837 X 4 or 5. \nDonations made on this site benefit the Performing Arts Center\, and we graciously accept your support. To donate to the organizer of this event\, please get in touch with them directly.
URL:https://thepac.net/event/hcs-event-whms-band-and-chhs-band-festival-preview-concert/
ATTACH;FMTTYPE=image/jpeg:https://thepac.net/wp-content/uploads/2022/08/hcs-new-logo-small-e1661953285663.jpg
END:VEVENT
END:VCALENDAR