BEGIN:VCALENDAR
VERSION:2.0
PRODID:-//The PAC - ECPv6.15.17.1//NONSGML v1.0//EN
CALSCALE:GREGORIAN
METHOD:PUBLISH
X-ORIGINAL-URL:https://thepac.net
X-WR-CALDESC:Events for The PAC
REFRESH-INTERVAL;VALUE=DURATION:PT1H
X-Robots-Tag:noindex
X-PUBLISHED-TTL:PT1H
BEGIN:VTIMEZONE
TZID:America/Kentucky/Louisville
BEGIN:DAYLIGHT
TZOFFSETFROM:-0500
TZOFFSETTO:-0400
TZNAME:EDT
DTSTART:20250309T070000
END:DAYLIGHT
BEGIN:STANDARD
TZOFFSETFROM:-0400
TZOFFSETTO:-0500
TZNAME:EST
DTSTART:20251102T060000
END:STANDARD
BEGIN:DAYLIGHT
TZOFFSETFROM:-0500
TZOFFSETTO:-0400
TZNAME:EDT
DTSTART:20260308T070000
END:DAYLIGHT
BEGIN:STANDARD
TZOFFSETFROM:-0400
TZOFFSETTO:-0500
TZNAME:EST
DTSTART:20261101T060000
END:STANDARD
BEGIN:DAYLIGHT
TZOFFSETFROM:-0500
TZOFFSETTO:-0400
TZNAME:EDT
DTSTART:20270314T070000
END:DAYLIGHT
BEGIN:STANDARD
TZOFFSETFROM:-0400
TZOFFSETTO:-0500
TZNAME:EST
DTSTART:20271107T060000
END:STANDARD
END:VTIMEZONE
BEGIN:VEVENT
DTSTART;VALUE=DATE:20260311
DTEND;VALUE=DATE:20260312
DTSTAMP:20260420T052337
CREATED:20260226T013442Z
LAST-MODIFIED:20260226T013442Z
UID:10000581-1773187200-1773273599@thepac.net
SUMMARY:HCS Event: North Hardin High School Pre-Assessment Band Concert
DESCRIPTION:North Hardin High School Pre-Assessment Band Concert\nThe concert band\, symphonic band\, and wind symphony perform their selections for the KMEA band assessment. \nRun Time: Approx 60 min\nRated: Best for all ages\nOn Sale: 2/26 @ 9 AM\nTickets: Free; But all seats must be reserved\nPublic Performance: 3/11 @ 6 PM \nGet Your Tickets Here \nAll tickets reserved through the PAC at www.thepac.net or 270-769-8837 X 4 or 5. \nDonations made on this site benefit the Performing Arts Center\, and we graciously accept your support. To donate to the organizer of this event\, please get in touch with them directly.
URL:https://thepac.net/event/hcs-event-north-hardin-high-school-pre-assessment-band-concert/
ATTACH;FMTTYPE=image/jpeg:https://thepac.net/wp-content/uploads/2022/08/hcs-new-logo-small-e1661953285663.jpg
END:VEVENT
END:VCALENDAR