BEGIN:VCALENDAR
VERSION:2.0
PRODID:-//The PAC - ECPv6.15.17.1//NONSGML v1.0//EN
CALSCALE:GREGORIAN
METHOD:PUBLISH
X-WR-CALNAME:The PAC
X-ORIGINAL-URL:https://thepac.net
X-WR-CALDESC:Events for The PAC
REFRESH-INTERVAL;VALUE=DURATION:PT1H
X-Robots-Tag:noindex
X-PUBLISHED-TTL:PT1H
BEGIN:VTIMEZONE
TZID:America/Kentucky/Louisville
BEGIN:DAYLIGHT
TZOFFSETFROM:-0500
TZOFFSETTO:-0400
TZNAME:EDT
DTSTART:20240310T070000
END:DAYLIGHT
BEGIN:STANDARD
TZOFFSETFROM:-0400
TZOFFSETTO:-0500
TZNAME:EST
DTSTART:20241103T060000
END:STANDARD
BEGIN:DAYLIGHT
TZOFFSETFROM:-0500
TZOFFSETTO:-0400
TZNAME:EDT
DTSTART:20250309T070000
END:DAYLIGHT
BEGIN:STANDARD
TZOFFSETFROM:-0400
TZOFFSETTO:-0500
TZNAME:EST
DTSTART:20251102T060000
END:STANDARD
BEGIN:DAYLIGHT
TZOFFSETFROM:-0500
TZOFFSETTO:-0400
TZNAME:EDT
DTSTART:20260308T070000
END:DAYLIGHT
BEGIN:STANDARD
TZOFFSETFROM:-0400
TZOFFSETTO:-0500
TZNAME:EST
DTSTART:20261101T060000
END:STANDARD
END:VTIMEZONE
BEGIN:VEVENT
DTSTART;VALUE=DATE:20251210
DTEND;VALUE=DATE:20251211
DTSTAMP:20260422T193127
CREATED:20251203T221902Z
LAST-MODIFIED:20251203T225233Z
UID:10000484-1765324800-1765411199@thepac.net
SUMMARY:Third Party Event: St. James Catholic School - "Glory to God in the Lowest"
DESCRIPTION:St. James School – “Glory to God in the Lowest”\nWhen angels appeared outside the town of Bethlehem proclaiming the greatest news the world had ever heard\, they didn’t deliver their message to the “high and mighty\,” but to the simple and lowly — shepherds! And\, not just any shepherds\, but easily-disregarded “night shepherds.” Little did they know that the promised king\, the Messiah from the line of King David\, was born that night\, right there in Bethlehem\, and would grow up to be both the Lamb of God\, and the Good Shepherd! Glory to God In the Highest became Glory to God in the Lowest\, too\, as the very Son of God came to the world He created as a tiny baby in a lowly manger! Join St. James Catholic School’s 3rd and 4th grade students as the bring this fantastic musical to life! \nRun Time: Approx. 45 mins\nRated G: Best for all ages\nOn Sale: 12/4/25 @ 9:00AM\nTickets: Tickets are free but must reserved\nPublic Performances: 12/10 @ 6:30PM \nGet Your Tickets Here \nAll tickets reserved through the PAC at www.thepac.net or 270-769-8837 X 4 or 5. \nDonations made on this site benefit the Performing Arts Center\, and we graciously accept your support. To donate to the organizer of this event\, please get in touch with them directly.
URL:https://thepac.net/event/third-party-event-st-james-catholic-school-glory-to-god-in-the-lowest/
ATTACH;FMTTYPE=image/png:https://thepac.net/wp-content/uploads/2023/05/THIRD-PART-EVENT-LOGO.png
END:VEVENT
END:VCALENDAR